BEGIN:VCALENDAR
VERSION:2.0
PRODID:-//Diesterweg Gymnasium Plauen - ECPv6.15.20//NONSGML v1.0//EN
CALSCALE:GREGORIAN
METHOD:PUBLISH
X-WR-CALNAME:Diesterweg Gymnasium Plauen
X-ORIGINAL-URL:https://www.diesterweg-gymnasium.de
X-WR-CALDESC:Veranstaltungen für Diesterweg Gymnasium Plauen
REFRESH-INTERVAL;VALUE=DURATION:PT1H
X-Robots-Tag:noindex
X-PUBLISHED-TTL:PT1H
BEGIN:VTIMEZONE
TZID:Europe/Berlin
BEGIN:DAYLIGHT
TZOFFSETFROM:+0100
TZOFFSETTO:+0200
TZNAME:CEST
DTSTART:20250330T010000
END:DAYLIGHT
BEGIN:STANDARD
TZOFFSETFROM:+0200
TZOFFSETTO:+0100
TZNAME:CET
DTSTART:20251026T010000
END:STANDARD
BEGIN:DAYLIGHT
TZOFFSETFROM:+0100
TZOFFSETTO:+0200
TZNAME:CEST
DTSTART:20260329T010000
END:DAYLIGHT
BEGIN:STANDARD
TZOFFSETFROM:+0200
TZOFFSETTO:+0100
TZNAME:CET
DTSTART:20261025T010000
END:STANDARD
BEGIN:DAYLIGHT
TZOFFSETFROM:+0100
TZOFFSETTO:+0200
TZNAME:CEST
DTSTART:20270328T010000
END:DAYLIGHT
BEGIN:STANDARD
TZOFFSETFROM:+0200
TZOFFSETTO:+0100
TZNAME:CET
DTSTART:20271031T010000
END:STANDARD
END:VTIMEZONE
BEGIN:VEVENT
DTSTART;TZID=Europe/Berlin:20260428T080000
DTEND;TZID=Europe/Berlin:20260428T140000
DTSTAMP:20260424T154109
CREATED:20260424T061333Z
LAST-MODIFIED:20260424T061441Z
UID:11720-1777363200-1777384800@www.diesterweg-gymnasium.de
SUMMARY:Abiturprüfung Deutsch
DESCRIPTION:
URL:https://www.diesterweg-gymnasium.de/event/abiturpruefung-deutsch
LOCATION:Aula
END:VEVENT
BEGIN:VEVENT
DTSTART;TZID=Europe/Berlin:20260429T080000
DTEND;TZID=Europe/Berlin:20260429T150000
DTSTAMP:20260424T154109
CREATED:20260424T061648Z
LAST-MODIFIED:20260424T061648Z
UID:11723-1777449600-1777474800@www.diesterweg-gymnasium.de
SUMMARY:Abiturprüfung Englisch (sprachpraktisch)
DESCRIPTION:
URL:https://www.diesterweg-gymnasium.de/event/abiturpruefung-englisch-sprachpraktisch
LOCATION:siehe Vplan
END:VEVENT
BEGIN:VEVENT
DTSTART;TZID=Europe/Berlin:20260430T080000
DTEND;TZID=Europe/Berlin:20260430T150000
DTSTAMP:20260424T154109
CREATED:20260424T061731Z
LAST-MODIFIED:20260424T061731Z
UID:11725-1777536000-1777561200@www.diesterweg-gymnasium.de
SUMMARY:Abiturprüfung Englisch
DESCRIPTION:
URL:https://www.diesterweg-gymnasium.de/event/abiturpruefung-englisch
LOCATION:Aula
END:VEVENT
BEGIN:VEVENT
DTSTART;TZID=Europe/Berlin:20260504T080000
DTEND;TZID=Europe/Berlin:20260504T150000
DTSTAMP:20260424T154109
CREATED:20260424T061756Z
LAST-MODIFIED:20260424T061756Z
UID:11726-1777881600-1777906800@www.diesterweg-gymnasium.de
SUMMARY:Abiturprüfung Kunst
DESCRIPTION:
URL:https://www.diesterweg-gymnasium.de/event/abiturpruefung-kunst
LOCATION:siehe Vplan
END:VEVENT
BEGIN:VEVENT
DTSTART;TZID=Europe/Berlin:20260504T080000
DTEND;TZID=Europe/Berlin:20260504T170000
DTSTAMP:20260424T154109
CREATED:20260424T062440Z
LAST-MODIFIED:20260424T062440Z
UID:11727-1777881600-1777914000@www.diesterweg-gymnasium.de
SUMMARY:Feststellungsprüfung in der Herkunftssprache
DESCRIPTION:
URL:https://www.diesterweg-gymnasium.de/event/feststellungspruefung-in-der-herkunftssprache
LOCATION:siehe Vplan
END:VEVENT
BEGIN:VEVENT
DTSTART;TZID=Europe/Berlin:20260506T080000
DTEND;TZID=Europe/Berlin:20260506T150000
DTSTAMP:20260424T154109
CREATED:20260424T062616Z
LAST-MODIFIED:20260424T062616Z
UID:11728-1778054400-1778079600@www.diesterweg-gymnasium.de
SUMMARY:Abiturprüfung Mathematik
DESCRIPTION:
URL:https://www.diesterweg-gymnasium.de/event/abiturpruefung-mathematik
LOCATION:Aula
END:VEVENT
BEGIN:VEVENT
DTSTART;VALUE=DATE:20260507
DTEND;VALUE=DATE:20260603
DTSTAMP:20260424T154109
CREATED:20260424T063052Z
LAST-MODIFIED:20260424T063052Z
UID:11729-1778112000-1780444799@www.diesterweg-gymnasium.de
SUMMARY:Zeitraum der mündlichen Abiturprüfungen
DESCRIPTION:
URL:https://www.diesterweg-gymnasium.de/event/zeitraum-der-muendlichen-abiturpruefungen
END:VEVENT
BEGIN:VEVENT
DTSTART;VALUE=DATE:20260508
DTEND;VALUE=DATE:20260509
DTSTAMP:20260424T154109
CREATED:20260424T063138Z
LAST-MODIFIED:20260424T063138Z
UID:11730-1778198400-1778284799@www.diesterweg-gymnasium.de
SUMMARY:Projekt Gewaltprävention Kl. 6
DESCRIPTION:
URL:https://www.diesterweg-gymnasium.de/event/projekt-gewaltpraevention-kl-6
LOCATION:Sonderplan
END:VEVENT
BEGIN:VEVENT
DTSTART;VALUE=DATE:20260511
DTEND;VALUE=DATE:20260523
DTSTAMP:20260424T154109
CREATED:20260424T063212Z
LAST-MODIFIED:20260424T063212Z
UID:11732-1778457600-1779494399@www.diesterweg-gymnasium.de
SUMMARY:Betriebspraktikum Kl. 9
DESCRIPTION:
URL:https://www.diesterweg-gymnasium.de/event/betriebspraktikum-kl-9
END:VEVENT
BEGIN:VEVENT
DTSTART;VALUE=DATE:20260512
DTEND;VALUE=DATE:20260514
DTSTAMP:20260424T154109
CREATED:20260424T063245Z
LAST-MODIFIED:20260424T063245Z
UID:11733-1778544000-1778716799@www.diesterweg-gymnasium.de
SUMMARY:Projekttage Profil Kl. 10
DESCRIPTION:
URL:https://www.diesterweg-gymnasium.de/event/projekttage-profil-kl-10
LOCATION:Sonderplan
END:VEVENT
BEGIN:VEVENT
DTSTART;TZID=Europe/Berlin:20260519T100000
DTEND;TZID=Europe/Berlin:20260519T123000
DTSTAMP:20260424T154109
CREATED:20260424T063347Z
LAST-MODIFIED:20260424T063347Z
UID:11734-1779184800-1779193800@www.diesterweg-gymnasium.de
SUMMARY:Theaterbesuch Kl. 7 "Wolf" - Saša Stanišić
DESCRIPTION:
URL:https://www.diesterweg-gymnasium.de/event/theaterbesuch-kl-7-wolf-sasa-stanisic
LOCATION:Sonderplan
END:VEVENT
BEGIN:VEVENT
DTSTART;VALUE=DATE:20260520
DTEND;VALUE=DATE:20260521
DTSTAMP:20260424T154109
CREATED:20260424T063421Z
LAST-MODIFIED:20260424T063421Z
UID:11735-1779235200-1779321599@www.diesterweg-gymnasium.de
SUMMARY:Biologie-Exkursion Kl. 11
DESCRIPTION:
URL:https://www.diesterweg-gymnasium.de/event/biologie-exkursion-kl-11
END:VEVENT
BEGIN:VEVENT
DTSTART;VALUE=DATE:20260603
DTEND;VALUE=DATE:20260604
DTSTAMP:20260424T154109
CREATED:20260424T063612Z
LAST-MODIFIED:20260424T063612Z
UID:11737-1780444800-1780531199@www.diesterweg-gymnasium.de
SUMMARY:Fabel- und Balladenprogramm Kokott & Georgi\, Kl. 5-8
DESCRIPTION:
URL:https://www.diesterweg-gymnasium.de/event/fabel-und-balladenprogramm-kokott-georgi-kl-5-8
LOCATION:Sonderplan
END:VEVENT
BEGIN:VEVENT
DTSTART;TZID=Europe/Berlin:20260603T080000
DTEND;TZID=Europe/Berlin:20260604T170000
DTSTAMP:20260424T154109
CREATED:20260424T063725Z
LAST-MODIFIED:20260424T063725Z
UID:11738-1780473600-1780592400@www.diesterweg-gymnasium.de
SUMMARY:Besuch der Vocatium in Chemnitz\, Kl. 11 (freiwillig)
DESCRIPTION:
URL:https://www.diesterweg-gymnasium.de/event/besuch-der-vocatium-in-chemnitz-kl-11-freiwillig
LOCATION:Sonderplan
END:VEVENT
BEGIN:VEVENT
DTSTART;VALUE=DATE:20260606
DTEND;VALUE=DATE:20260607
DTSTAMP:20260424T154109
CREATED:20260424T064233Z
LAST-MODIFIED:20260424T064233Z
UID:11747-1780704000-1780790399@www.diesterweg-gymnasium.de
SUMMARY:do good day
DESCRIPTION:
URL:https://www.diesterweg-gymnasium.de/event/do-good-day
END:VEVENT
BEGIN:VEVENT
DTSTART;VALUE=DATE:20260609
DTEND;VALUE=DATE:20260610
DTSTAMP:20260424T154109
CREATED:20260424T063818Z
LAST-MODIFIED:20260424T063818Z
UID:11739-1780963200-1781049599@www.diesterweg-gymnasium.de
SUMMARY:Sportfest Kl. 5-7
DESCRIPTION:
URL:https://www.diesterweg-gymnasium.de/event/sportfest-kl-5-7
LOCATION:Kurt-Helbig-Sportplatz
END:VEVENT
BEGIN:VEVENT
DTSTART;VALUE=DATE:20260610
DTEND;VALUE=DATE:20260611
DTSTAMP:20260424T154109
CREATED:20260424T063848Z
LAST-MODIFIED:20260424T063848Z
UID:11741-1781049600-1781135999@www.diesterweg-gymnasium.de
SUMMARY:Sportfest Kl. 8-11
DESCRIPTION:
URL:https://www.diesterweg-gymnasium.de/event/sportfest-kl-8-11
LOCATION:Kurt-Helbig-Sportplatz
END:VEVENT
BEGIN:VEVENT
DTSTART;VALUE=DATE:20260610
DTEND;VALUE=DATE:20260617
DTSTAMP:20260424T154109
CREATED:20260424T064123Z
LAST-MODIFIED:20260424T064123Z
UID:11745-1781049600-1781654399@www.diesterweg-gymnasium.de
SUMMARY:zusätzliche mündliche Abiturprüfungen
DESCRIPTION:
URL:https://www.diesterweg-gymnasium.de/event/zusaetzliche-muendliche-abiturpruefungen
LOCATION:Sonderplan
END:VEVENT
BEGIN:VEVENT
DTSTART;VALUE=DATE:20260611
DTEND;VALUE=DATE:20260612
DTSTAMP:20260424T154109
CREATED:20260424T063923Z
LAST-MODIFIED:20260424T063923Z
UID:11742-1781136000-1781222399@www.diesterweg-gymnasium.de
SUMMARY:Ausflug nach Landwüst\, Kl. 6a+6b
DESCRIPTION:
URL:https://www.diesterweg-gymnasium.de/event/ausflug-nach-landwuest-kl-6a6b
END:VEVENT
BEGIN:VEVENT
DTSTART;VALUE=DATE:20260612
DTEND;VALUE=DATE:20260613
DTSTAMP:20260424T154109
CREATED:20260424T064013Z
LAST-MODIFIED:20260424T064013Z
UID:11744-1781222400-1781308799@www.diesterweg-gymnasium.de
SUMMARY:Sportfest (Ausweichtermin)
DESCRIPTION:
URL:https://www.diesterweg-gymnasium.de/event/sportfest-ausweichtermin
LOCATION:Kurt-Helbig-Sportplatz
END:VEVENT
BEGIN:VEVENT
DTSTART;VALUE=DATE:20260612
DTEND;VALUE=DATE:20260613
DTSTAMP:20260424T154109
CREATED:20260424T063943Z
LAST-MODIFIED:20260424T063943Z
UID:11743-1781222400-1781308799@www.diesterweg-gymnasium.de
SUMMARY:Ausflug nach Landwüst Kl. 6c
DESCRIPTION:
URL:https://www.diesterweg-gymnasium.de/event/ausflug-nach-landwuest-kl-6c
END:VEVENT
BEGIN:VEVENT
DTSTART;VALUE=DATE:20260615
DTEND;VALUE=DATE:20260616
DTSTAMP:20260424T154109
CREATED:20260424T064156Z
LAST-MODIFIED:20260424T064156Z
UID:11746-1781481600-1781567999@www.diesterweg-gymnasium.de
SUMMARY:Ausflug Kl. 9 - Gedenkstätte Flossenbürg
DESCRIPTION:
URL:https://www.diesterweg-gymnasium.de/event/ausflug-kl-9-gedenkstaette-flossenbuerg
END:VEVENT
BEGIN:VEVENT
DTSTART;TZID=Europe/Berlin:20260627T093000
DTEND;TZID=Europe/Berlin:20260627T113000
DTSTAMP:20260424T154109
CREATED:20260424T064418Z
LAST-MODIFIED:20260424T064418Z
UID:11748-1782552600-1782559800@www.diesterweg-gymnasium.de
SUMMARY:feierliche Übergabe der Abiturzeugnisse
DESCRIPTION:
URL:https://www.diesterweg-gymnasium.de/event/feierliche-uebergabe-der-abiturzeugnisse
LOCATION:Theater Plauen
END:VEVENT
BEGIN:VEVENT
DTSTART;VALUE=DATE:20260628
DTEND;VALUE=DATE:20260703
DTSTAMP:20260424T154109
CREATED:20260424T065242Z
LAST-MODIFIED:20260424T065242Z
UID:11751-1782604800-1783036799@www.diesterweg-gymnasium.de
SUMMARY:Abschlussfahrt Kl. 10
DESCRIPTION:
URL:https://www.diesterweg-gymnasium.de/event/abschlussfahrt-kl-10
END:VEVENT
BEGIN:VEVENT
DTSTART;VALUE=DATE:20260702
DTEND;VALUE=DATE:20260703
DTSTAMP:20260424T154109
CREATED:20260424T065308Z
LAST-MODIFIED:20260424T065308Z
UID:11752-1782950400-1783036799@www.diesterweg-gymnasium.de
SUMMARY:Fußball-Schulmeisterschaft
DESCRIPTION:
URL:https://www.diesterweg-gymnasium.de/event/fussball-schulmeisterschaft
LOCATION:Sonderplan
END:VEVENT
BEGIN:VEVENT
DTSTART;TZID=Europe/Berlin:20260703T073000
DTEND;TZID=Europe/Berlin:20260703T133000
DTSTAMP:20260424T154109
CREATED:20260424T064516Z
LAST-MODIFIED:20260424T064516Z
UID:11750-1783063800-1783085400@www.diesterweg-gymnasium.de
SUMMARY:Zeugnisausgabe und letzter Schultag
DESCRIPTION:
URL:https://www.diesterweg-gymnasium.de/event/zeugnisausgabe-und-letzter-schultag
LOCATION:Sonderplan
END:VEVENT
END:VCALENDAR